BEGIN:VCALENDAR
VERSION:2.0
PRODID:-//Duckmart - Siem Reap - Riverside - ECPv6.15.20//NONSGML v1.0//EN
CALSCALE:GREGORIAN
METHOD:PUBLISH
X-ORIGINAL-URL:https://duckmart.asia
X-WR-CALDESC:Events for Duckmart - Siem Reap - Riverside
REFRESH-INTERVAL;VALUE=DURATION:PT1H
X-Robots-Tag:noindex
X-PUBLISHED-TTL:PT1H
BEGIN:VTIMEZONE
TZID:Asia/Krasnoyarsk
BEGIN:STANDARD
TZOFFSETFROM:+0700
TZOFFSETTO:+0700
TZNAME:+07
DTSTART:20240101T000000
END:STANDARD
END:VTIMEZONE
BEGIN:VEVENT
DTSTART;TZID=Asia/Krasnoyarsk:20250905T183000
DTEND;TZID=Asia/Krasnoyarsk:20250905T233000
DTSTAMP:20260421T092148
CREATED:20250827T003644Z
LAST-MODIFIED:20250827T010505Z
UID:3977-1757097000-1757115000@duckmart.asia
SUMMARY:Duckmart Bingo Night
DESCRIPTION:Ticket sales are open now \nThe Original BINGO event at Duckmart (powered by The Playground) hosted by Jared05.09.2025. @18:30\nLIMITED SEATS Buy your ticket(s) now and secure your seat for the event.\nGOLDEN TICKET ⁃ all night (valid for all rounds) BINGO ticket⁃ 2 drink voucher⁃ 1 food voucherOnly 10$ (best value)\nBINGO TICKET  2$ (you can buy before each round)⁃ valid for one round\nYou can buy your ticket:⁃ Duckmart⁃ Online (message us)\nWith lot of valuable prizes  and guaranteed fun for everyone 
URL:https://duckmart.asia/event/duckmart-bingo-night/
LOCATION:Duckmart – Riverside\, Duckmart - Riverside\, Siem Reap\, Siem Reap\, 17102\, Cambodia
ATTACH;FMTTYPE=image/jpeg:https://duckmart.asia/wp-content/uploads/2025/08/photo_6145319235698674159_y.jpg
ORGANIZER;CN="Duckmart - Riverside":MAILTO:booking@duckmart.asia
END:VEVENT
END:VCALENDAR